Workbook

Sheet Caractéristique HP
A1: Thiele and Small du HP | D1: Constructeur | F1: Constantes
A2: Diamètre HP | B2: 6.5 | C2: "
A3: Nb HP | B3: 1 | F3: c | G3: 343.707 | H3: m/s
A4: Branchement | B4: Parallèle | F4: ρ | G4: 1.194 | H4: kg/m³
A5: Mms | B5: 10.5 | C5: g | D5: =(1/((2*PI()*D18)^2*((D22*10000000)/(G4*G3^2)))*10000000000)*(D14/10000)^2*1000 -> 10.482167 | E5: g
A6: Cms | B6: 0.309 | C6: mm/N | D6: =1/(2*PI()*D18)^2/D5*1000000 -> 0.30923216 | E6: mm/N
A7: Rms | B7: 1.49 | C7: kg/s | D7: =2*PI()*D18*D5/(D19*1000) -> 1.4882791 | E7: kg/s
A8: BL | B8: 11.36 | C8: N/A | D8: =(2*PI()*D18*D5/1000*(B10/D20))^(1/2) -> 11.358682 | E8: N/A
A9: R | B9: 16 | C9: Ohm
A10: Re (HP) | B10: 11.9 | C10: Ohm | D10: =B10 -> 11.9
A11: Re' (HP) | B11: =IF(OR(B3=4,B3=16,B3=64),1,IF(AND(B4="Parallèle",OR(B3=2,B3=8,B3=32)),1/2,IF(B3=1,1,2)))*B10 -> 11.9 | C11: Ohm
A12: Rg (Ampli) | B12: 0.1 | C12: Ohm
A13: Rf (Filtres) | B13: 0 | C13: Ohm
A14: Sd | B14: 132 | C14: cm² | D14: =B14 -> 132 | E14: cm²
A15: Sd' | B15: =B14*B3 -> 132 | C15: m²
A16: Xmax | B16: 5 | C16: mm
A17: Le | B17: 0.68 | C17: mH
A18: Fs | B18: =((1/(B6/1000*B5/1000))^(1/2))/(2*PI()) -> 88.358074 | C18: Hz | D18: 88.4 | E18: Hz
A19: Qms | B19: =2*PI()*B18*B5/1000/B7 -> 3.9122729 | D19: 3.912
A20: Qes | B20: =B10/((B8^2)/(2*PI()*B18*B5/1000)) -> 0.53753371 | D20: 0.537
A21: Qts | B21: =B19*B20/(B19+B20) -> 0.47259999 | D21: =D19*D20/(D19+D20) -> 0.47218341
A22: Vas | B22: =(((G3*(B14/10000))/(2*PI()*B18))^2*G4)/(B5/1000)*1000 -> 7.5942943 | C22: l | D22: 7.6 | E22: l
A23: Vas' | B23: =B22*B3 -> 7.5942943 | C23: l
A24: BL/Mms | B24: =B8/B5 -> 1.0819048
A25: Fs/Qts | B25: =B18/B21 -> 186.96165 | C25: Hz | D25: Vérification | E25: Max ±10%
A26: Rend HP seul | B26: =((4*(PI()^2)*(B18^3)*B22)/((G3^3)*B20))/1000 -> 0.0094757817 | D26: =(G4*D8^2*(D14/10000)^2)/(2*PI()*G3*(D5/1000)^2*D10) -> 0.0095058445 | E26: =1-D26/B26 -> -0.0031725962
A27: Sens HP seul (W) | B27: =112.13+10*LOG(B26) -> 91.89615 | C27: dB/1W/m | D27: =112.13+10*LOG(D26) -> 91.909907
A28: Sens HP seul (V) | B28: =B27+10*LOG(8/(B10+B12)) -> 90.135238 | C28: dB/2.83v/m | D28: =D27+10*LOG(8/B10) -> 90.185337 | E28: dB/2.83v/m
A29: Mmrf | B29: =8*G4*(((B14/PI())^(1/2))^3)/3/1000 -> 0.86717979 | C29: g
A30: Mmd | B30: =B5-B29 -> 9.6328202 | C30: g
A31: Mmra | B31: =0.0021658336*B2^3.1531701172 -> 0.79228091 | C31: g | D31: Valeur Th à corriger après itération
A32: Mmsb | B32: =B30+B29+B31 -> 11.292281 | C32: g
A33: Fsb | B33: =1/(2*PI()*SQRT(B6*B32))*1000 -> 85.202052 | C33: Hz
A34: Qmsb | B34: =B19*B18/B33 -> 4.0571898
A35: Qesb | B35: =2*PI()*B33*(B10+B12+B13)*B32/B8^2/1000 -> 0.56212924
A36: Qtsb | B36: =B34*B35/(B34+B35) -> 0.49372321
A37: Fsb/Qtsb | B37: =B33/B36 -> 172.57048 | C37: Hz
A38: Fe (coupure haute) | B38: =1/(2*PI()*(B17/(B11+B12+B13)))*1000 -> 2808.6166 | C38: Hz
A39: Rendb HP seul | B39: =((4*(PI()^2)*(B33^3)*(B22/1000))/((G3^3)*B35)) -> 0.0081244882
A40: Sensb HP seul (W) | B40: =112.13+10*LOG(B39) -> 91.22796 | C40: dB/1W/m
...

Sheet Clos
A3: Fc | B3: =B7*B5/B6 -> 122.00733 | C3: Hz
A5: Fsb | B5: ='Caractéristique HP'!B33 -> 85.202052 | C5: Hz
A6: Qtsb | B6: ='Caractéristique HP'!B36 -> 0.49372321
A7: Qtc | B7: 0.707 | C7: =(IF(B7=0.5,"Linkwicz-Riley",IF(B7=0.577,"Bessel",IF(B7=0.707,"Butterworth","Autre")))) -> Butterworth
A9: Vc | B9: =B11/(((B13/B12)^2)-1) -> 7.2288301 | C9: l
A11: Vas' | B11: ='Caractéristique HP'!B23 -> 7.5942943 | C11: l
A12: Fsb | B12: ='Caractéristique HP'!B33 -> 85.202052
A13: Fc | B13: =B3 -> 122.00733
A15: Fc-3 | B15: =B17*SQRT((((1/(B18^2))-2)+SQRT((((1/(B18^2))-2)^2)+4))/2) -> 122.02576 | C15: Hz
A17: Fc | B17: =B3 -> 122.00733 | C17: Hz
A18: Qtc | B18: =B7 -> 0.707
A20: Volume interne | B20: =B22+B23+B24 -> 7.8119652 | C20: l
A22: Vc | B22: =B9 -> 7.2288301 | C22: l
A23: Volume occupé dans l'enceinte | B23: ='Caractéristique HP'!B62 -> 0.8 | C23: l
A24: Volume d'amortissement | B24: =-B9*0.15*0.2 -> -0.2168649 | C24: l

Sheet BR Simplifié
A1: Vb | B1: =B6*B4*B5^2 -> 14.80964 | C1: l | E1: 0.20 < Qts < 0.25 ==> 2 < N < 4 0.25 < Qts < 0.39 ==> 2 < N < 5.7 0.39 < Qts < 0.45 ==> 2.8 < N < 8 0.45 < Qts < 0.52 ==> 5.7 < N < 9.5 0.52 < Qts < 0.60 ==> 8 < N < 11.3 0.60 < Qts < 0.69 ==> 11.3 < N < 13.5 | K1: Valeurs Francis B.
A2: Vb manuel | B2: 14 | C2: l | K2: Rouge | L2: Orange | M2: Jaune | O2: Rouge | P2: Orange | Q2: Jaune
J3: 90 | K3: 17 | L3: 10.1 | M3: 5.4 | O3: =0.552318*EXP(0.03807*B40) -> 30.075735 | P3: =0.299132*EXP(0.039122*B40) -> 18.191231 | Q3: =0.220239*EXP(0.035565*B40) -> 9.2191518
A4: Vas' | B4: ='Caractéristique HP'!$B$23 -> 7.5942943 | C4: l | J4: 95 | K4: 20.5 | L4: 12.3 | M4: 6.5
A5: Qtsb | B5: ='Caractéristique HP'!$B$36 -> 0.49372321 | J5: 100 | K5: 24.9 | L5: 15 | M5: 7.7
A6: N manuel | B6: 8 | J6: 105 | K6: 30.1 | L6: 18.2 | M6: 9.2
A7: N | B7: =B2/(B4*B5^2) -> 7.5626416 | J7: 110 | K7: 36.4 | L7: 22.1 | M7: 11
E8: C | F8: ='Caractéristique HP'!G3 -> 343.707 | G8: m/s | J8: 115 | K8: 44 | L8: 26.9 | M8: 13.1
A9: Fb | B9: =0.44*B12/B13 -> 75.931011 | C9: Hz | E9: ρ | F9: ='Caractéristique HP'!G4 -> 1.194 | G9: kg/m³ | J9: 120 | K9: 53.2 | L9: 32.7 | M9: 15.8
A10: Fb manuel (svt WinISD) | B10: 80
E11: Fx | F11: 800 | G11: =F8/G12*1000 -> 1562.3045 | H11: Hz
A12: Fsb | B12: ='Caractéristique HP'!$B$33 -> 85.202052 | C12: Hz | E12: Entre-axe | F12: =F8/F11*1000 -> 429.63375 | G12: 220 | H12: mm
A13: Qtsb | B13: ='Caractéristique HP'!$B$36 -> 0.49372321
E14: L | F14: Fx | G14: L physique
A15: F-3 | B15: =(B18/B19)^0.48*B17 -> 63.524691 | C15: Hz | E15: 444 | F15: =$F$8/(E15/1000) -> 774.11486
D16: 4 | E16: =$F$8/F16*1000 -> 1749.145 | F16: 196.5 | G16: =E16/D16 -> 437.28626
A17: Fsb | B17: ='Caractéristique HP'!$B$33 -> 85.202052 | C17: Hz | D17: 2 | E17: =$F$8/F17*1000 -> 859.2675 | F17: 400 | G17: =E17/D17 -> 429.63375
A18: Vas' | B18: ='Caractéristique HP'!$B$23 -> 7.5942943 | C18: l
A19: Vb | B19: =IF(B2="",B1,B2) -> 14 | C19: l | G19: Rectangulaire
A21: Le (unitaire) | B21: =((((343.4/(2*PI()*B32))^2)*(B31/10000)/(B27/1000))-IF(B28<2,(0.825*((B31/10000)/PI())^(1/2)+0.613*((B31/10000)/PI())^(1/2)),(1+(3*PI()/16*B25/B29))*(((B31/10000)/PI())^(1/2))))*1000*0.8 -> 35.268972 | C21: mm | D21: =((((343.4/(2*PI()*D32))^2)*(D31/10000)/(D27/1000))-IF(D28<2,(0.825*((D31/10000)/PI())^(1/2)+0.613*((D31/10000)/PI())^(1/2)),(1+(3*PI()/16*D25/D29))*(((D31/10000)/PI())^(1/2))))*1000*0.8 -> 60.037771 | E21: mm | G21: =((((343.4/(2*PI()*G32))^2)*(G31/10000)/(G27/1000))-IF(G28<2,((-0.0000218829*G26^3+0.0015760126*G26^2-0.0425675552*G26+1.0294595883)*0.825*(-0.0000260538*G26^3 + 0.0016362224*G26^2 - 0.0427820821*G26 + 1.0296108606)*((G31/10000)/PI())^(1/2)),(1+(3*PI()/16*G25/G29))*(((G31/10000)/PI())^(1/2))))*1000*0.8 -> 67.104121 | H21: mm
A23: D ext | B23: 63 | C23: mm | D23: 75 | E23: mm | F23: L | G23: =230-36 -> 194 | H23: mm
A24: Ep. | B24: =IF(B23<101,3,IF(B23=110,3.2,IF(B23=125,3.2,IF(B23=140,3.5,IF(B23=160,4,IF(B23=200,4.9,6.2)))))) -> 3 | C24: mm | D24: =IF(D23<101,3,IF(D23=110,3.2,IF(D23=125,3.2,IF(D23=140,3.5,IF(D23=160,4,IF(D23=200,4.9,6.2)))))) -> 3 | E24: mm | F24: H | G24: 21 | H24: mm
A25: D int | B25: =B23-(2*B24) -> 57 | C25: mm | D25: =D23-(2*D24) -> 69 | E25: mm | F25: D équilalent | G25: =1.3*((((G23*G24)^5)/((G23+G24)^2))^(1/8)) -> 61.2487 | H25: mm
A26: D int manuel | C26: mm | D26: =IF($B26="","",$B26) | E26: mm | F26: L/H (<10) | G26: =G23/G24 -> 9.2380952
A27: Vb | B27: =IF($B$2="",$B$1,$B$2) -> 14 | C27: l | D27: =IF($B$2="",$B$1,$B$2) -> 14 | E27: l | G27: =IF($B$2="",$B$1,$B$2) -> 14 | H27: l
A28: Nb évent | B28: 1 | D28: 1 | G28: 1
A29: Entre-axe | B29: 90 | C29: mm | D29: 160 | E29: mm | G29: 250 | H29: mm
A30: Se Mini (Ap) | B30: =$B$12*(B43/1000)*B41*0.8 -> 44.986684 | C30: cm² | D30: =$B$12*(D43/1000)*D41*0.8 -> 44.986684 | E30: cm² | G30: =$B$12*(G43/1000)*G41*0.8 -> 44.986684 | H30: cm²
A31: Se réel | B31: =IF(B26="",(((B25/2)^2*PI()/100)*B28),(((B26/2)^2*PI()/100)*B28)) -> 25.517586 | C31: cm² | D31: =IF(D26="",(((D25/2)^2*PI()/100)*D28),(((D26/2)^2*PI()/100)*D28)) -> 37.392807 | E31: cm² | G31: =(((G25/2)^2*PI()/100)*G28) -> 29.463453 | H31: cm²
A32: Fb | B32: =IF($B$10="",$B$9,$B$10) -> 80 | C32: Hz | D32: =IF($B$10="",$B$9,$B$10) -> 80 | E32: Hz | G32: =IF($B$10="",$B$9,$B$10) -> 80 | H32: Hz
A33: Se/Sd' (PI) | B33: =B31/B41 -> 0.19331505 | D33: =D31/D41 -> 0.28327884 | G33: =G31/D41 -> 0.22320797
A35: Fx Vair max | B35: 82.8 | C35: Hz | D35: =IF($B35="","",$B35) -> 82.8 | E35: Hz | G35: =IF($B35="","",$B35) -> 82.8 | H35: Hz
A37: Ve (viser 17m/s opti) | B37: =IF(B44="",(26.16*B46+7.75)*((B41)/B45)*(B43/1000)*B42,(26.16*B46+7.75)*((B41)/B45)*(B44/1000)*B42) -> 20.525218 | C37: m/s | D37: =IF(D44="",(26.16*D46+7.75)*((D41)/D45)*(D43/1000)*D42,(26.16*D46+7.75)*((D41)/D45)*(D44/1000)*D42) -> 14.006812 | E37: m/s | G37: =IF(G44="",(26.16*G46+7.75)*((G41)/G45)*(G43/1000)*G42,(26.16*G46+7.75)*((G41)/G45)*(G44/1000)*G42) -> 17.776397 | H37: m/s
A39: SPL Max | B39: ='Caractéristique HP'!$B$53 -> 110.77039 | C39: dB | D39: ='Caractéristique HP'!$B$53 -> 110.77039 | E39: dB | G39: ='Caractéristique HP'!$B$53 -> 110.77039 | H39: dB
A40: SPL Manuel (Vair Max) | B40: 105 | C40: dB | D40: =IF($B40="","",$B40) -> 105 | E40: dB | G40: =IF($B40="","",$B40) -> 105
A41: Sd' | B41: ='Caractéristique HP'!$B$15 -> 132 | C41: cm² | D41: ='Caractéristique HP'!$B$15 -> 132 | E41: cm² | G41: ='Caractéristique HP'!$B$15 -> 132 | H41: cm² | K41: 1 | L41: 0.988
A42: Fb | B42: =IF($B$10="",$B$9,$B$10) -> 80 | C42: Hz | D42: =IF($B$10="",$B$9,$B$10) -> 80 | E42: Hz | G42: =IF($B$10="",$B$9,$B$10) -> 80 | H42: Hz | K42: 3.5 | L42: 0.9
A43: Xmax | B43: ='Caractéristique HP'!$B$16 -> 5 | C43: mm | D43: ='Caractéristique HP'!$B$16 -> 5 | E43: mm | G43: ='Caractéristique HP'!$B$16 -> 5 | H43: mm | K43: 7 | L43: 0.8
A44: X manuel | B44: 2.4 | C44: mm | D44: =IF($B44="","",$B44) -> 2.4 | E44: mm | G44: =IF($B44="","",$B44) -> 2.4 | H44: mm | K44: 10 | L44: 0.74
A45: Se | B45: =B31 -> 25.517586 | C45: cm² | D45: =D31 -> 37.392807 | E45: cm² | G45: =G31 -> 29.463453 | H45: cm² | K45: 30 | L45: 0.58
...

Sheet 1-4 d'onde
A1: Calcul enceinte 1/4 d'onde | E1: Longueur | F1: SL/SO | G1: ='Caractéristique HP'!B18 -> 88.358074 | H1: 20 | I1: 25 | J1: 30 | K1: 35 | L1: 40 | M1: 45 | N1: 50 | O1: 55 | P1: 60 | Q1: 65 | R1: 70
F2: 10 | G2: =-0.0000011077*G1^5 + 0.0002935664*G1^4 - 0.031374359*G1^3 + 1.7258263403*G1^2 - 51.395927739*G1 + 783.8806526914 -> 1.358701 | H2: 238.8 | I2: 191 | J2: 159.2 | K2: 136.5 | L2: 119.4 | M2: 106.1 | N2: 95.5 | O2: 86.8 | P2: 79.6 | Q2: 73.5 | R2: 68.2
A3: SL/SO | B3: 0.225 | F3: 5 | G3: =-0.0000009692*G1^5 + 0.000259662*G1^4 - 0.0280512238*G1^3 + 1.5592007576*G1^2 - 46.887624126*G1 + 721.3667832269 -> 8.0736195 | H3: 221.4 | I3: 177.1 | J3: 147.6 | K3: 126.5 | L3: 110.7 | M3: 98.4 | N3: 88.6 | O3: 80.5 | P3: 73.8 | Q3: 68.1 | R3: 63.3
F4: 3 | G4: =-0.0000009026*G1^5 + 0.0002414452*G1^4 - 0.0260564103*G1^3 + 1.447553613*G1^2 - 43.5280955712*G1 + 669.8941725037 -> 6.2039697 | H4: 205.7 | I4: 164.6 | J4: 137.1 | K4: 117.5 | L4: 102.9 | M4: 91.4 | N4: 82.3 | O4: 74.8 | P4: 68.6 | Q4: 63.3 | R4: 58.8
A5: Dz | B5: =-9.721*LN(B3) + 26.589 -> 41.089377 | C5: m | F5: 2 | G5: =-0.0000008564*G1^5 + 0.0002285431*G1^4 - 0.0245942308*G1^3 + 1.3620906177*G1^2 - 40.8330705129*G1 + 626.7933566522 -> 5.0652031 | H5: 192.1 | I5: 153.7 | J5: 128.1 | K5: 109.8 | L5: 96.1 | M5: 85.4 | N5: 76.8 | O5: 69.9 | P5: 64 | Q5: 59.1 | R5: 54.9
A6: Dr | B6: =0.0437*B16^-0.893 -> 0.085341162 | C6: m² | F6: 1 | G6: =-0.0000007487*G1^5 + 0.0001998368*G1^4 - 0.0215122378*G1^3 + 1.1918572261*G1^2 - 35.7376002332*G1 + 548.4790209868 -> 4.3050581 | H6: 168 | I6: 134.4 | J6: 112 | K6: 96 | L6: 84 | M6: 74.7 | N6: 67.2 | O6: 61.1 | P6: 56 | Q6: 51.7 | R6: 48
F7: 0.5 | G7: =-0.0000006564*G1^5 + 0.0001750117*G1^4 - 0.0188111888*G1^3 + 1.0401748252*G1^2 - 31.1165827506*G1 + 476.311421918 -> 3.4432796 | H7: 145.5 | I7: 116.4 | J7: 97 | K7: 83.1 | L7: 72.8 | M7: 64.7 | N7: 58.2 | O7: 52.9 | P7: 48.5 | Q7: 44.8 | R7: 41.6
A8: S0/Sd | B8: =B21*B20*B17*B5*B6*B18/B19^2 -> 17516.408 | F8: 0.333 | G8: =-0.0000006308*G1^5 + 0.0001666317*G1^4 - 0.0177497086*G1^3 + 0.9731395688*G1^2 - 28.8883805362*G1 + 439.3299533861 -> -0.6813469 | H8: 133.5 | I8: 106.8 | J8: 89 | K8: 76.3 | L8: 66.8 | M8: 59.3 | N8: 53.4 | O8: 48.5 | P8: 44.5 | Q8: 41.1 | R8: 38.1
A9: S0 | B9: =B17*B8*10000 -> 2.3121658e+10 | C9: cm² | F9: 0.2 | G9: =-0.0000005385*G1^5 + 0.0001438578*G1^4 - 0.0154896853*G1^3 + 0.857587704*G1^2 - 25.668715035*G1 + 392.8287878843 -> 3.172505 | H9: 119.9 | I9: 95.9 | J9: 79.9 | K9: 68.5 | L9: 60 | M9: 53.3 | N9: 48 | O9: 43.6 | P9: 40 | Q9: 36.9 | R9: 34.3
A10: SL | B10: =B9*B3 -> 5.2023731e+09 | C10: cm² | F10: 0.1 | G10: =-0.0000004667*G1^5 + 0.0001244406*G1^4 - 0.0133818765*G1^3 + 0.7402875874*G1^2 - 22.1466998835*G1 + 338.8269230819 -> 1.7826112 | H10: 103.4 | I10: 82.7 | J10: 68.9 | K10: 59.1 | L10: 51.7 | M10: 46 | N10: 41.4 | O10: 37.6 | P10: 34.5 | Q10: 31.8 | R10: 29.5
A11: Leffectif | B11: =(22.692*LN(B3) + 125.8)*2.54 -> 233.55647 | C11: cm
A12: Volume | B12: =0.55*B9*B11/1000 -> 2.9701171e+09 | C12: l
A13: Dth (axe HP / parois interne) | B13: =(0.0000671574*B3^3-0.0017976585*B3^2+0.0197080493*B3+0.331492637)*B11 -> 78.436837 | C13: cm
A14: D (axe HP / parois interne) | B14: =0.2*B11 -> 46.711295 | C14: cm
A16: Qts | B16: ='Caractéristique HP'!B21 -> 0.47259999
A17: Sd | B17: ='Caractéristique HP'!B14 -> 132 | C17: m²
A18: Re | B18: ='Caractéristique HP'!B10 -> 11.9 | C18: Ohm
A19: BL | B19: ='Caractéristique HP'!B8 -> 11.36 | C19: N/A | E19: Dr | F19: Qts | G19: Dr
A20: C | B20: ='Caractéristique HP'!G3 -> 343.707 | C20: m/s | F20: 0.2 | G20: 0.1858
A21: ρ | B21: ='Caractéristique HP'!G4 -> 1.194 | C21: kg/m³ | F21: 0.3 | G21: 0.1313
F22: 0.4 | G22: 0.095
A23: SL = Sd/2 pour sub | F23: 0.5 | G23: 0.0788
F24: 0.6 | G24: 0.0688
F25: 0.7 | G25: 0.0625
E27: Déport axe HP | F27: SL/SO | G27: Offset
F28: 10 | G28: 0.416
F29: 5 | G29: 0.393
F30: 3 | G30: 0.377
F31: 2 | G31: 0.365
F32: 1 | G32: 0.349
F33: 0.5 | G33: 0.339
F34: 0.333 | G34: 0.336
F35: 0.2 | G35: 0.336
F36: 0.1 | G36: 0.336
E39: Dz | F39: SL/SO | G39: ='Caractéristique HP'!B18 -> 88.358074 | H39: 20 | I39: 25 | J39: 30 | K39: 35 | L39: 40 | M39: 45 | N39: 50 | O39: 55 | P39: 60 | Q39: 65 | R39: 70
F40: 10 | G40: =G39*0.2196 -> 19.403433 | H40: 4.392 | I40: 5.49 | J40: 6.588 | K40: 7.686 | L40: 8.784 | M40: 9.882 | N40: 10.98 | O40: 12.078 | P40: 13.176 | Q40: 14.274 | R40: 15.372
F41: 5 | G41: =G39*0.388304 -> 34.309794 | H41: 7.766 | I41: 9.708 | J41: 11.649 | K41: 13.591 | L41: 15.532 | M41: 17.474 | N41: 19.415 | O41: 21.357 | P41: 23.298 | Q41: 25.24 | R41: 27.181
F42: 3 | G42: =G39*0.552953 -> 48.857862 | H42: 11.059 | I42: 13.824 | J42: 16.589 | K42: 19.353 | L42: 22.118 | M42: 24.883 | N42: 27.648 | O42: 30.412 | P42: 33.177 | Q42: 35.942 | R42: 38.707
F43: 2 | G43: =G39*0.701253 -> 61.961365 | H43: 14.025 | I43: 17.531 | J43: 21.038 | K43: 24.544 | L43: 28.05 | M43: 31.556 | N43: 35.063 | O43: 38.569 | P43: 42.075 | Q43: 45.581 | R43: 49.088
F44: 1 | G44: =G39*0.971453 -> 85.835716 | H44: 19.429 | I44: 24.286 | J44: 29.144 | K44: 34.001 | L44: 38.858 | M44: 43.715 | N44: 48.573 | O44: 53.43 | P44: 58.287 | Q44: 63.144 | R44: 68.002
...

Sheet Calcul Box
B1: Volume utile | C1: ='BR Simplifié'!B62 -> 14.432011 | D1: l | H1: Epaisseur bois | I1: 1.8 | J1: cm | L1: Proportion optimale
A3: H | B3: 1.4 | C3: =C5*B3 -> 28.67261 | D3: cm | E3: =C3+2*$I$1 -> 32.27261 | F3: cm | G3: 1.9 | H3: =H5*G3 -> 33.386329 | I3: cm | J3: =H3+2*$I$1 -> 36.986329 | K3: cm | L3: 4 | M3: =M5*L3 -> 48.693644 | N3: cm | O3: =M3+2*$I$1 -> 52.293644 | P3: cm
A4: L | B4: 1.2 | C4: =C5*B4 -> 24.576523 | D4: cm | E4: =C4+2*$I$1 -> 28.176523 | F4: cm | G4: 1.4 | H4: =H5*G4 -> 24.600453 | I4: cm | J4: =H4+2*$I$1 -> 28.200453 | K4: cm | L4: 2 | M4: =M5*L4 -> 24.346822 | N4: cm | O4: =M4+2*$I$1 -> 27.946822 | P4: cm
A5: P | B5: 1 | C5: =(($C$1*1000)/(B3*B4))^(1/3) -> 20.480436 | D5: cm | E5: =C5+2*$I$1 -> 24.080436 | F5: cm | G5: 1 | H5: =(($C$1*1000)/(G3*G4))^(1/3) -> 17.571752 | I5: cm | J5: =H5+2*$I$1 -> 21.171752 | K5: cm | L5: 1 | M5: =(($C$1*1000)/(L3*L4))^(1/3) -> 12.173411 | N5: cm | O5: =M5+2*$I$1 -> 15.773411 | P5: cm
A7: H | B7: 1.404 | C7: =C9*B7 -> 28.987187 | D7: cm | E7: =C7+2*$I$1 -> 32.587187 | F7: cm | G7: 2.1 | H7: =H9*G7 -> 34.136198 | I7: cm | J7: =H7+2*$I$1 -> 37.736198 | K7: cm | L7: 3.266 | M7: =M9*L7 -> 50.617749 | N7: cm | O7: =M7+2*$I$1 -> 54.217749 | P7: cm
A8: L | B8: 1.168 | C8: =C9*B8 -> 24.114697 | D8: cm | E8: =C8+2*$I$1 -> 27.714697 | F8: cm | G8: 1.6 | H8: =H9*G8 -> 26.008532 | I8: cm | J8: =H8+2*$I$1 -> 29.608532 | K8: cm | L8: 1.187 | M8: =M9*L8 -> 18.396592 | N8: cm | O8: =M8+2*$I$1 -> 21.996592 | P8: cm
A9: P | B9: 1 | C9: =(($C$1*1000)/(B7*B8))^(1/3) -> 20.646145 | D9: cm | E9: =C9+2*$I$1 -> 24.246145 | F9: cm | G9: 1 | H9: =(($C$1*1000)/(G7*G8))^(1/3) -> 16.255332 | I9: cm | J9: =H9+2*$I$1 -> 19.855332 | K9: cm | L9: 1 | M9: =(($C$1*1000)/(L7*L8))^(1/3) -> 15.498392 | N9: cm | O9: =M9+2*$I$1 -> 19.098392 | P9: cm
A11: H | B11: 1.39 | C11: =C13*B11 -> 29.028006 | D11: cm | E11: =C11+2*$I$1 -> 32.628006 | F11: cm | G11: 1.9 | H11: =H13*G11 -> 34.221331 | I11: cm | J11: =H11+2*$I$1 -> 37.821331 | K11: cm | L11: 3.67 | M11: =M13*L11 -> 56.099271 | N11: cm | O11: =M11+2*$I$1 -> 59.699271 | P11: cm
A12: L | B12: 1.14 | C12: =C13*B12 -> 23.807141 | D12: cm | E12: =C12+2*$I$1 -> 27.407141 | F12: cm | G12: 1.3 | H12: =H13*G12 -> 23.414595 | I12: cm | J12: =H12+2*$I$1 -> 27.014595 | K12: cm | L12: 1.101 | M12: =M13*L12 -> 16.829781 | N12: cm | O12: =M12+2*$I$1 -> 20.429781 | P12: cm
A13: P | B13: 1 | C13: =(($C$1*1000)/(B11*B12))^(1/3) -> 20.883457 | D13: cm | E13: =C13+2*$I$1 -> 24.483457 | F13: cm | G13: 1 | H13: =(($C$1*1000)/(G11*G12))^(1/3) -> 18.011227 | I13: cm | J13: =H13+2*$I$1 -> 21.611227 | K13: cm | L13: 1 | M13: =(($C$1*1000)/(L11*L12))^(1/3) -> 15.285905 | N13: cm | O13: =M13+2*$I$1 -> 18.885905 | P13: cm
A15: H | B15: 1.435 | C15: =C17*B15 -> 29.132342 | D15: cm | E15: =C15+2*$I$1 -> 32.732342 | F15: cm | G15: 2.1 | H15: =H17*G15 -> 34.878521 | I15: cm | J15: =H15+2*$I$1 -> 38.478521 | K15: cm | L15: 4.334 | M15: =M17*L15 -> 61.228214 | N15: cm | O15: =M15+2*$I$1 -> 64.828214 | P15: cm
A16: L | B16: 1.202 | C16: =C17*B16 -> 24.402143 | D16: cm | E16: =C16+2*$I$1 -> 28.002143 | F16: cm | G16: 1.5 | H16: =H17*G16 -> 24.913229 | I16: cm | J16: =H16+2*$I$1 -> 28.513229 | K16: cm | L16: 1.181 | M16: =M17*L16 -> 16.684476 | N16: cm | O16: =M16+2*$I$1 -> 20.284476 | P16: cm
A17: P | B17: 1 | C17: =(($C$1*1000)/(B15*B16))^(1/3) -> 20.301283 | D17: cm | E17: =C17+2*$I$1 -> 23.901283 | F17: cm | G17: 1 | H17: =(($C$1*1000)/(G15*G16))^(1/3) -> 16.608819 | I17: cm | J17: =H17+2*$I$1 -> 20.208819 | K17: cm | L17: 1 | M17: =(($C$1*1000)/(L15*L16))^(1/3) -> 14.127414 | N17: cm | O17: =M17+2*$I$1 -> 17.727414 | P17: cm
A19: H | B19: 1.4 | C19: =C21*B19 -> 29.516402 | D19: cm | E19: =C19+2*$I$1 -> 33.116402 | F19: cm | G19: 2.1 | H19: =H21*G19 -> 35.689939 | I19: cm | J19: =H19+2*$I$1 -> 39.289939 | K19: cm | L19: 4.669 | M19: =M21*L19 -> 62.755057 | N19: cm | O19: =M19+2*$I$1 -> 66.355057 | P19: cm
A20: L | B20: 1.1 | C20: =C21*B20 -> 23.191458 | D20: cm | E20: =C20+2*$I$1 -> 26.791458 | F20: cm | G20: 1.4 | H20: =H21*G20 -> 23.793292 | I20: cm | J20: =H20+2*$I$1 -> 27.393292 | K20: cm | L20: 1.273 | M20: =M21*L20 -> 17.110128 | N20: cm | O20: =M20+2*$I$1 -> 20.710128 | P20: cm
A21: P | B21: 1 | C21: =(($C$1*1000)/(B19*B20))^(1/3) -> 21.083144 | D21: cm | E21: =C21+2*$I$1 -> 24.683144 | F21: cm | G21: 1 | H21: =(($C$1*1000)/(G19*G20))^(1/3) -> 16.995209 | I21: cm | J21: =H21+2*$I$1 -> 20.595209 | K21: cm | L21: 1 | M21: =(($C$1*1000)/(L19*L20))^(1/3) -> 13.440792 | N21: cm | O21: =M21+2*$I$1 -> 17.040792 | P21: cm
A23: H | B23: 1.54 | C23: =C25*B23 -> 29.903322 | D23: cm | E23: =C23+2*$I$1 -> 33.503322 | F23: cm | G23: 2.33 | H23: =H25*G23 -> 36.585268 | I23: cm | J23: =H23+2*$I$1 -> 40.185268 | K23: cm | L23: 1.88 | M23: =M25*L23 -> 33.555954 | N23: cm | O23: =M23+2*$I$1 -> 37.155954 | P23: cm
A24: L | B24: 1.28 | C24: =C25*B24 -> 24.854709 | D24: cm | E24: =C24+2*$I$1 -> 28.454709 | F24: cm | G24: 1.6 | H24: =H25*G24 -> 25.122931 | I24: cm | J24: =H24+2*$I$1 -> 28.722931 | K24: cm | L24: 1.35 | M24: =M25*L24 -> 24.096031 | N24: cm | O24: =M24+2*$I$1 -> 27.696031 | P24: cm
A25: P | B25: 1 | C25: =(($C$1*1000)/(B23*B24))^(1/3) -> 19.417742 | D25: cm | E25: =C25+2*$I$1 -> 23.017742 | F25: cm | G25: 1 | H25: =(($C$1*1000)/(G23*G24))^(1/3) -> 15.701832 | I25: cm | J25: =H25+2*$I$1 -> 19.301832 | K25: cm | L25: 1 | M25: =(($C$1*1000)/(L23*L24))^(1/3) -> 17.848912 | N25: cm | O25: =M25+2*$I$1 -> 21.448912 | P25: cm
A27: H | B27: 1.587 | C27: =C29*B27 -> 30.669266 | D27: cm | E27: =C27+2*$I$1 -> 34.269266 | F27: cm | G27: 2.2 | H27: =H29*G27 -> 36.814146 | I27: cm | J27: =H27+2*$I$1 -> 40.414146 | K27: cm | L27: 1.45 | M27: =M29*L27 -> 29.684857 | N27: cm | O27: =M27+2*$I$1 -> 33.284857 | P27: cm
A28: L | B28: 1.26 | C28: =C29*B28 -> 24.34989 | D28: cm | E28: =C28+2*$I$1 -> 27.94989 | F28: cm | G28: 1.4 | H28: =H29*G28 -> 23.427184 | I28: cm | J28: =H28+2*$I$1 -> 27.027184 | K28: cm | L28: 1.16 | M28: =M29*L28 -> 23.747885 | N28: cm | O28: =M28+2*$I$1 -> 27.347885 | P28: cm
A29: P | B29: 1 | C29: =(($C$1*1000)/(B27*B28))^(1/3) -> 19.32531 | D29: cm | E29: =C29+2*$I$1 -> 22.92531 | F29: cm | G29: 1 | H29: =(($C$1*1000)/(G27*G28))^(1/3) -> 16.733703 | I29: cm | J29: =H29+2*$I$1 -> 20.333703 | K29: cm | L29: 1 | M29: =(($C$1*1000)/(L27*L28))^(1/3) -> 20.472315 | N29: cm | O29: =M29+2*$I$1 -> 24.072315 | P29: cm
A31: H | B31: 1.8 | C31: =C33*B31 -> 32.204355 | D31: cm | E31: =C31+2*$I$1 -> 35.804355 | F31: cm | G31: 2.261 | H31: =H33*G31 -> 38.518312 | I31: cm | J31: =H31+2*$I$1 -> 42.118312 | K31: cm | M31: =M33*L31 -> #DIV/0! | N31: cm | O31: =M31+2*$I$1 -> #DIV/0! | P31: cm
A32: L | B32: 1.4 | C32: =C33*B32 -> 25.047832 | D32: cm | E32: =C32+2*$I$1 -> 28.647832 | F32: cm | G32: 1.291 | H32: =H33*G32 -> 21.993428 | I32: cm | J32: =H32+2*$I$1 -> 25.593428 | K32: cm | M32: =M33*L32 -> #DIV/0! | N32: cm | O32: =M32+2*$I$1 -> #DIV/0! | P32: cm
A33: P | B33: 1 | C33: =(($C$1*1000)/(B31*B32))^(1/3) -> 17.891308 | D33: cm | E33: =C33+2*$I$1 -> 21.491308 | F33: cm | G33: 1 | H33: =(($C$1*1000)/(G31*G32))^(1/3) -> 17.035963 | I33: cm | J33: =H33+2*$I$1 -> 20.635963 | K33: cm | L33: 1 | M33: =(($C$1*1000)/(L31*L32))^(1/3) -> #DIV/0! | N33: cm | O33: =M33+2*$I$1 -> #DIV/0! | P33: cm
A35: H | B35: 1.767 | C35: =C37*B35 -> 32.937828 | D35: cm | E35: =C35+2*$I$1 -> 36.537828 | F35: cm | G35: 2.5 | H35: =H37*G35 -> 42.202859 | I35: cm | J35: =H35+2*$I$1 -> 45.802859 | K35: cm | M35: =M37*L35 -> #DIV/0! | N35: cm | O35: =M35+2*$I$1 -> #DIV/0! | P35: cm
A36: L | B36: 1.261 | C36: =C37*B36 -> 23.505716 | D36: cm | E36: =C36+2*$I$1 -> 27.105716 | F36: cm | G36: 1.2 | H36: =H37*G36 -> 20.257372 | I36: cm | J36: =H36+2*$I$1 -> 23.857372 | K36: cm | M36: =M37*L36 -> #DIV/0! | N36: cm | O36: =M36+2*$I$1 -> #DIV/0! | P36: cm
A37: P | B37: 1 | C37: =(($C$1*1000)/(B35*B36))^(1/3) -> 18.640536 | D37: cm | E37: =C37+2*$I$1 -> 22.240536 | F37: cm | G37: 1 | H37: =(($C$1*1000)/(G35*G36))^(1/3) -> 16.881144 | I37: cm | J37: =H37+2*$I$1 -> 20.481144 | K37: cm | L37: 1 | M37: =(($C$1*1000)/(L35*L36))^(1/3) -> #DIV/0! | N37: cm | O37: =M37+2*$I$1 -> #DIV/0! | P37: cm
A39: H | B39: 1.872 | C39: =C41*B39 -> 32.994784 | D39: cm | E39: =C39+2*$I$1 -> 36.594784 | F39: cm | G39: 2.636 | H39: =H41*G39 -> 44.077835 | I39: cm | J39: =H39+2*$I$1 -> 47.677835 | K39: cm | L39: 0 | M39: =M41*L39 -> #DIV/0! | N39: cm | O39: =M39+2*$I$1 -> #DIV/0! | P39: cm
A40: L | B40: 1.408 | C40: =C41*B40 -> 24.81659 | D40: cm | E40: =C40+2*$I$1 -> 28.41659 | F40: cm | G40: 1.171 | H40: =H41*G40 -> 19.580859 | I40: cm | J40: =H40+2*$I$1 -> 23.180859 | K40: cm | L40: 0 | M40: =M41*L40 -> #DIV/0! | N40: cm | O40: =M40+2*$I$1 -> #DIV/0! | P40: cm
A41: P | B41: 1 | C41: =(($C$1*1000)/(B39*B40))^(1/3) -> 17.625419 | D41: cm | E41: =C41+2*$I$1 -> 21.225419 | F41: cm | G41: 1 | H41: =(($C$1*1000)/(G39*G40))^(1/3) -> 16.721485 | I41: cm | J41: =H41+2*$I$1 -> 20.321485 | K41: cm | L41: 1 | M41: =(($C$1*1000)/(L39*L40))^(1/3) -> #DIV/0! | N41: cm | O41: =M41+2*$I$1 -> #DIV/0! | P41: cm

Sheet Pavillon
A2: Sg (surface gorge) | B2: =B6/(B6+(B7^2/2/B4/B5/B8))*B8*10000*1.55 -> 2045795.2 | C2: cm²
A4: ρ | B4: ='Caractéristique HP'!G4 -> 1.194 | C4: kg/m³
A5: C | B5: ='Caractéristique HP'!G3 -> 343.707 | C5: m/s
A6: Re | B6: ='Caractéristique HP'!B11 -> 11.9 | C6: Ohm
A7: BL | B7: ='Caractéristique HP'!B8 -> 11.36 | C7: N/A | J7: Horn
A8: Sd | B8: ='Caractéristique HP'!B15 -> 132 | C8: m²
A10: Lg (largeur gorge) | B10: =B13*100 -> 140.01217 | C10: mm
A11: Hg (hauteur gorge) | B11: =B2/B10*100 -> 1461155.3 | C11: mm
A13: Ø cut (plan HP) | B13: ='Caractéristique HP'!B68*10 -> 1.4001217 | C13: dm
A14: Atc | B14: =(B13*10/2)^2*PI() -> 153.9648 | C14: cm²
A15: Htc (profondeur chambre) | B15: ='Calcul Box'!I1*10 -> 18 | C15: mm
A16: Volume avant HP | B16: ='Caractéristique HP'!B2*'Caractéristique HP'!B69/2.35*1000 -> 358.5812 | C16: cm³
A17: Vtc | B17: =B14*B15/10+B16 -> 635.71784 | C17: cm³
A19: Ap1 | B19: =B2 -> 2045795.2 | C19: cm²
A20: Lpt | B20: ='Calcul Box'!I1*10 -> 18 | C20: mm | J20: Hybrid
A22: Type | B22: Clos
A23: Vrc (volume arrière) | B23: =IF(B22="Clos",Clos!B9,'BR Simplifié'!B19) -> 7.2288301 | C23: l
A24: Arc min (surface bafle) | B24: ='Caractéristique HP'!B67^2 -> 0.032982192 | C24: m²
A25: Arc manuel | B25: 0.5 | C25: m²
A26: Lrc | B26: =IF(B25="",B23/(B24*100)*10,B23/(B25*100)*10) -> 1.445766 | C26: cm
A27: Lpt | B27: =IF(B22="BR",'BR Simplifié'!G21/10,0) -> 0 | C27: cm
A28: Ap | B28: =IF(B22="BR",'BR Simplifié'!G31,0) -> 0 | C28: cm²
